BEGIN:VCALENDAR
VERSION:2.0
PRODID:-//Cagliari News | Il quotidiano di Cagliari e provincia | Notizie ed eventi a Cagliari - ECPv6.15.3//NONSGML v1.0//EN
CALSCALE:GREGORIAN
METHOD:PUBLISH
X-WR-CALNAME:Cagliari News | Il quotidiano di Cagliari e provincia | Notizie ed eventi a Cagliari
X-ORIGINAL-URL:https://cagliarinews.it
X-WR-CALDESC:Eventi per Cagliari News | Il quotidiano di Cagliari e provincia | Notizie ed eventi a Cagliari
REFRESH-INTERVAL;VALUE=DURATION:PT1H
X-Robots-Tag:noindex
X-PUBLISHED-TTL:PT1H
BEGIN:VTIMEZONE
TZID:Europe/Rome
BEGIN:DAYLIGHT
TZOFFSETFROM:+0100
TZOFFSETTO:+0200
TZNAME:CEST
DTSTART:20250330T010000
END:DAYLIGHT
BEGIN:STANDARD
TZOFFSETFROM:+0200
TZOFFSETTO:+0100
TZNAME:CET
DTSTART:20251026T010000
END:STANDARD
END:VTIMEZONE
BEGIN:VEVENT
DTSTART;TZID=Europe/Rome:20251205T080000
DTEND;TZID=Europe/Rome:20251207T170000
DTSTAMP:20260421T232059
CREATED:20251201T084430Z
LAST-MODIFIED:20251201T084430Z
UID:47708-1764921600-1765126800@cagliarinews.it
SUMMARY:Riparte il "Lei festival" al Teatro Doglio di Cagliari
DESCRIPTION:Riparte il “Lei festival” al Teatro Doglio di Cagliari. Gli incontri con gli autori\, fulcro del festival\, si terranno anche quest’anno nel Teatro Doglio dal 5 al 7 dicembre\, ma sono stati anticipati\, a partire dal 5 novembre\, da appuntamenti dedicati alle scuole\, per stimolare nei giovani lettori curiosità\, pensiero critico e consapevolezza emotiva. Anche quest’anno il Festival conferma il suo impegno verso l’inclusione: gli eventi in sala saranno infatti sottotitolati in tempo reale tramite respeaking\, a cura dell’associazione onA.I.R.\, e sarà attivo il servizio di interpretariato LIS\, a cura dell’Istituto dei Sordi di Torino con il contributo del Pio Istituto Sordi di Milano. Grazie a queste soluzioni\, anche persone con difficoltà sensoriali e linguistiche potranno partecipare appieno alla ricchezza delle attività proposte. \n 
URL:https://cagliarinews.it/event/lei-festival-teatro-doglio-cagliari-1-dicembre-2025/
LOCATION:cagliari
CATEGORIES:cultura,eventi
ATTACH;FMTTYPE=image/png:https://cagliarinews.it/wp-content/uploads/2025/12/1000x1000-06.png
END:VEVENT
END:VCALENDAR