BEGIN:VCALENDAR
VERSION:2.0
PRODID:-//Cagliari News | Il quotidiano di Cagliari e provincia | Notizie ed eventi a Cagliari - ECPv6.15.3//NONSGML v1.0//EN
CALSCALE:GREGORIAN
METHOD:PUBLISH
X-ORIGINAL-URL:https://cagliarinews.it
X-WR-CALDESC:Eventi per Cagliari News | Il quotidiano di Cagliari e provincia | Notizie ed eventi a Cagliari
REFRESH-INTERVAL;VALUE=DURATION:PT1H
X-Robots-Tag:noindex
X-PUBLISHED-TTL:PT1H
BEGIN:VTIMEZONE
TZID:Europe/Rome
BEGIN:DAYLIGHT
TZOFFSETFROM:+0100
TZOFFSETTO:+0200
TZNAME:CEST
DTSTART:20260329T010000
END:DAYLIGHT
BEGIN:STANDARD
TZOFFSETFROM:+0200
TZOFFSETTO:+0100
TZNAME:CET
DTSTART:20261025T010000
END:STANDARD
END:VTIMEZONE
BEGIN:VEVENT
DTSTART;TZID=Europe/Rome:20260424T080000
DTEND;TZID=Europe/Rome:20260508T170000
DTSTAMP:20260423T203653
CREATED:20260423T092051Z
LAST-MODIFIED:20260423T092052Z
UID:61323-1777017600-1778259600@cagliarinews.it
SUMMARY:Quartucciu\, si inaugura la mostra "Il Popolo di Bronzo"
DESCRIPTION:È un viaggio nel tempo della civiltà nuragica quello proposto a Quartucciu dalla mostra “Il Popolo di Bronzo”\, aperta da domani (venerdì 24 aprile) all’8 maggio alla DoMusArT\, in via Neghelli. Ideata\, realizzata e curata da Angela Demontis\, l’esposizione – di proprietà della Città Metropolitana – propone una possibile ricostruzione a grandezza reale di abiti\, armi e utensili nuragici\, basata sulla rigorosa osservazione dei bronzetti iniziata col libro della stessa Demontis “Il Popolo di Bronzo” (Edizioni Condaghes\, 2006). \nL’iniziativa si inserisce nell’ambito del progetto Arrexinis\, ideato dall’Assessorato alla Cultura del Comune di Quartucciu e coordinato dalla cooperativa Forma e Poesia nel Jazz con la collaborazione della Pro Loco\, con l’obiettivo di valorizzare e raccontare il patrimonio archeologico del territorio quartuccese. \nL’inaugurazione si terrà domani (venerdì 24) alle 18 con gli interventi della curatrice Angela Demontis\, dell’archeologa Patrizia Zuncheddu e dell’Assessora alla Cultura Elisabetta Contini\, offrendo un primo momento di approfondimento e dialogo sul valore culturale dell’iniziativa. \n\nLa mostra sarà aperta al pubblico tutti i giorni\, ad eccezione del 25 e 26 aprile e del 1 e 3 maggio\, dalle 10 alle 12.30 e dalle 17 alle 19. \n\n\nPer informazioni e prenotazioni di visite di gruppo: 388 3899755.
URL:https://cagliarinews.it/event/quartucciu-mostra-il-popolo-di-bronzo-23-aprile-2026/
LOCATION:quartucciu
CATEGORIES:cultura,eventi
ATTACH;FMTTYPE=image/jpeg:https://cagliarinews.it/wp-content/uploads/2026/04/Il-Popolo-di-Bronzo-locandina.jpg
END:VEVENT
END:VCALENDAR